BEGIN:VCALENDAR
VERSION:2.0
PRODID:-//PTS Zwettl - ECPv6.15.11//NONSGML v1.0//EN
CALSCALE:GREGORIAN
METHOD:PUBLISH
X-WR-CALNAME:PTS Zwettl
X-ORIGINAL-URL:https://www.ptszwettl.ac.at/wp
X-WR-CALDESC:Veranstaltungen für PTS Zwettl
REFRESH-INTERVAL;VALUE=DURATION:PT1H
X-Robots-Tag:noindex
X-PUBLISHED-TTL:PT1H
BEGIN:VTIMEZONE
TZID:Europe/Berlin
BEGIN:DAYLIGHT
TZOFFSETFROM:+0100
TZOFFSETTO:+0200
TZNAME:CEST
DTSTART:20250330T010000
END:DAYLIGHT
BEGIN:STANDARD
TZOFFSETFROM:+0200
TZOFFSETTO:+0100
TZNAME:CET
DTSTART:20251026T010000
END:STANDARD
BEGIN:DAYLIGHT
TZOFFSETFROM:+0100
TZOFFSETTO:+0200
TZNAME:CEST
DTSTART:20260329T010000
END:DAYLIGHT
BEGIN:STANDARD
TZOFFSETFROM:+0200
TZOFFSETTO:+0100
TZNAME:CET
DTSTART:20261025T010000
END:STANDARD
BEGIN:DAYLIGHT
TZOFFSETFROM:+0100
TZOFFSETTO:+0200
TZNAME:CEST
DTSTART:20270328T010000
END:DAYLIGHT
BEGIN:STANDARD
TZOFFSETFROM:+0200
TZOFFSETTO:+0100
TZNAME:CET
DTSTART:20271031T010000
END:STANDARD
END:VTIMEZONE
BEGIN:VEVENT
DTSTART;VALUE=DATE:20260501
DTEND;VALUE=DATE:20260503
DTSTAMP:20260425T160503
CREATED:20170902T145957Z
LAST-MODIFIED:20250702T060958Z
UID:673-1777597200-1777683599@www.ptszwettl.ac.at
SUMMARY:Staatsfeiertag
DESCRIPTION:
URL:https://www.ptszwettl.ac.at/wp/event/staatsfeiertag/
END:VEVENT
BEGIN:VEVENT
DTSTART;VALUE=DATE:20260514
DTEND;VALUE=DATE:20260516
DTSTAMP:20260425T160503
CREATED:20170902T150101Z
LAST-MODIFIED:20250702T060802Z
UID:675-1778720400-1778806799@www.ptszwettl.ac.at
SUMMARY:Christi Himmelfahrt
DESCRIPTION:
URL:https://www.ptszwettl.ac.at/wp/event/christi-himmelfahrt/
END:VEVENT
BEGIN:VEVENT
DTSTART;VALUE=DATE:20260523
DTEND;VALUE=DATE:20260527
DTSTAMP:20260425T160503
CREATED:20170902T150242Z
LAST-MODIFIED:20250702T060722Z
UID:679-1779498000-1779757199@www.ptszwettl.ac.at
SUMMARY:Pfingsten
DESCRIPTION:
URL:https://www.ptszwettl.ac.at/wp/event/pfingsten/
END:VEVENT
BEGIN:VEVENT
DTSTART;VALUE=DATE:20260526
DTEND;VALUE=DATE:20260528
DTSTAMP:20260425T160503
CREATED:20250910T115827Z
LAST-MODIFIED:20250910T115832Z
UID:3199-1779757200-1779843599@www.ptszwettl.ac.at
SUMMARY:Landeswettbewerb Wifi St. Pölten
DESCRIPTION:
URL:https://www.ptszwettl.ac.at/wp/event/landeswettbewerb-wifi-st-poelten/
END:VEVENT
BEGIN:VEVENT
DTSTART;VALUE=DATE:20260604
DTEND;VALUE=DATE:20260606
DTSTAMP:20260425T160503
CREATED:20170902T150329Z
LAST-MODIFIED:20250910T120017Z
UID:681-1780534800-1780621199@www.ptszwettl.ac.at
SUMMARY:Fronleichnam
DESCRIPTION:
URL:https://www.ptszwettl.ac.at/wp/event/fronleichnam/
END:VEVENT
BEGIN:VEVENT
DTSTART;VALUE=DATE:20260605
DTEND;VALUE=DATE:20260607
DTSTAMP:20260425T160503
CREATED:20170902T143909Z
LAST-MODIFIED:20250910T120052Z
UID:652-1780621200-1780707599@www.ptszwettl.ac.at
SUMMARY:Schulautonom
DESCRIPTION:
URL:https://www.ptszwettl.ac.at/wp/event/schulautonom/
END:VEVENT
BEGIN:VEVENT
DTSTART;VALUE=DATE:20260616
DTEND;VALUE=DATE:20260618
DTSTAMP:20260425T160503
CREATED:20250910T115934Z
LAST-MODIFIED:20250910T115934Z
UID:3201-1781571600-1781657999@www.ptszwettl.ac.at
SUMMARY:Fachabschlussprüfung in der PTS
DESCRIPTION:
URL:https://www.ptszwettl.ac.at/wp/event/fachabschlusspruefung-in-der-pts/
END:VEVENT
BEGIN:VEVENT
DTSTART;VALUE=DATE:20260703
DTEND;VALUE=DATE:20260705
DTSTAMP:20260425T160503
CREATED:20170902T150432Z
LAST-MODIFIED:20250702T060243Z
UID:683-1783040400-1783126799@www.ptszwettl.ac.at
SUMMARY:Schulschluss
DESCRIPTION:
URL:https://www.ptszwettl.ac.at/wp/event/schulschluss/
END:VEVENT
END:VCALENDAR