BEGIN:VCALENDAR
VERSION:2.0
PRODID:-//PTS Zwettl - ECPv6.15.11//NONSGML v1.0//EN
CALSCALE:GREGORIAN
METHOD:PUBLISH
X-WR-CALNAME:PTS Zwettl
X-ORIGINAL-URL:https://www.ptszwettl.ac.at/wp
X-WR-CALDESC:Veranstaltungen für PTS Zwettl
REFRESH-INTERVAL;VALUE=DURATION:PT1H
X-Robots-Tag:noindex
X-PUBLISHED-TTL:PT1H
BEGIN:VTIMEZONE
TZID:Europe/Berlin
BEGIN:DAYLIGHT
TZOFFSETFROM:+0100
TZOFFSETTO:+0200
TZNAME:CEST
DTSTART:20240331T010000
END:DAYLIGHT
BEGIN:STANDARD
TZOFFSETFROM:+0200
TZOFFSETTO:+0100
TZNAME:CET
DTSTART:20241027T010000
END:STANDARD
BEGIN:DAYLIGHT
TZOFFSETFROM:+0100
TZOFFSETTO:+0200
TZNAME:CEST
DTSTART:20250330T010000
END:DAYLIGHT
BEGIN:STANDARD
TZOFFSETFROM:+0200
TZOFFSETTO:+0100
TZNAME:CET
DTSTART:20251026T010000
END:STANDARD
BEGIN:DAYLIGHT
TZOFFSETFROM:+0100
TZOFFSETTO:+0200
TZNAME:CEST
DTSTART:20260329T010000
END:DAYLIGHT
BEGIN:STANDARD
TZOFFSETFROM:+0200
TZOFFSETTO:+0100
TZNAME:CET
DTSTART:20261025T010000
END:STANDARD
END:VTIMEZONE
BEGIN:VEVENT
DTSTART;VALUE=DATE:20250901
DTEND;VALUE=DATE:20250903
DTSTAMP:20260426T044707
CREATED:20200514T172940Z
LAST-MODIFIED:20250702T062848Z
UID:1761-1756688400-1756774799@www.ptszwettl.ac.at
SUMMARY:SCHULSTART 07:45
DESCRIPTION:
URL:https://www.ptszwettl.ac.at/wp/event/schulstart-nach-corona/
END:VEVENT
BEGIN:VEVENT
DTSTART;VALUE=DATE:20250903
DTEND;VALUE=DATE:20250905
DTSTAMP:20260426T044707
CREATED:20170904T065355Z
LAST-MODIFIED:20250910T113957Z
UID:689-1756861200-1756947599@www.ptszwettl.ac.at
SUMMARY:Lehrausgang Lagerhaus Zwettl
DESCRIPTION:
URL:https://www.ptszwettl.ac.at/wp/event/lehrausgang-lagerhaus-zwettl/
END:VEVENT
BEGIN:VEVENT
DTSTART;VALUE=DATE:20250904
DTEND;VALUE=DATE:20250906
DTSTAMP:20260426T044707
CREATED:20240828T183017Z
LAST-MODIFIED:20250910T114105Z
UID:2956-1756947600-1757033999@www.ptszwettl.ac.at
SUMMARY:Schulfotograf
DESCRIPTION:
URL:https://www.ptszwettl.ac.at/wp/event/schulfotograf/
END:VEVENT
BEGIN:VEVENT
DTSTART;VALUE=DATE:20250905
DTEND;VALUE=DATE:20250907
DTSTAMP:20260426T044707
CREATED:20170904T065207Z
LAST-MODIFIED:20250909T183718Z
UID:687-1757034000-1757120399@www.ptszwettl.ac.at
SUMMARY:Betriebetag WKO
DESCRIPTION:
URL:https://www.ptszwettl.ac.at/wp/event/betriebetag/
END:VEVENT
BEGIN:VEVENT
DTSTART;VALUE=DATE:20250915
DTEND;VALUE=DATE:20250921
DTSTAMP:20260426T044707
CREATED:20170708T132915Z
LAST-MODIFIED:20250702T062740Z
UID:237-1757898000-1758329999@www.ptszwettl.ac.at
SUMMARY:1. Berufspraktische Woche
DESCRIPTION:
URL:https://www.ptszwettl.ac.at/wp/event/treffen-bei-franky/
END:VEVENT
END:VCALENDAR