BEGIN:VCALENDAR
VERSION:2.0
PRODID:-//PTS Zwettl - ECPv6.15.11//NONSGML v1.0//EN
CALSCALE:GREGORIAN
METHOD:PUBLISH
X-ORIGINAL-URL:https://www.ptszwettl.ac.at/wp
X-WR-CALDESC:Veranstaltungen für PTS Zwettl
REFRESH-INTERVAL;VALUE=DURATION:PT1H
X-Robots-Tag:noindex
X-PUBLISHED-TTL:PT1H
BEGIN:VTIMEZONE
TZID:Europe/Berlin
BEGIN:DAYLIGHT
TZOFFSETFROM:+0100
TZOFFSETTO:+0200
TZNAME:CEST
DTSTART:20240331T010000
END:DAYLIGHT
BEGIN:STANDARD
TZOFFSETFROM:+0200
TZOFFSETTO:+0100
TZNAME:CET
DTSTART:20241027T010000
END:STANDARD
BEGIN:DAYLIGHT
TZOFFSETFROM:+0100
TZOFFSETTO:+0200
TZNAME:CEST
DTSTART:20250330T010000
END:DAYLIGHT
BEGIN:STANDARD
TZOFFSETFROM:+0200
TZOFFSETTO:+0100
TZNAME:CET
DTSTART:20251026T010000
END:STANDARD
BEGIN:DAYLIGHT
TZOFFSETFROM:+0100
TZOFFSETTO:+0200
TZNAME:CEST
DTSTART:20260329T010000
END:DAYLIGHT
BEGIN:STANDARD
TZOFFSETFROM:+0200
TZOFFSETTO:+0100
TZNAME:CET
DTSTART:20261025T010000
END:STANDARD
BEGIN:DAYLIGHT
TZOFFSETFROM:+0100
TZOFFSETTO:+0200
TZNAME:CEST
DTSTART:20270328T010000
END:DAYLIGHT
BEGIN:STANDARD
TZOFFSETFROM:+0200
TZOFFSETTO:+0100
TZNAME:CET
DTSTART:20271031T010000
END:STANDARD
END:VTIMEZONE
BEGIN:VEVENT
DTSTART;VALUE=DATE:20251224
DTEND;VALUE=DATE:20260108
DTSTAMP:20260425T213638
CREATED:20170719T160021Z
LAST-MODIFIED:20250702T061520Z
UID:424-1766538000-1767747599@www.ptszwettl.ac.at
SUMMARY:Weihnachtsferien
DESCRIPTION:
URL:https://www.ptszwettl.ac.at/wp/event/weihnachtsferien/
END:VEVENT
BEGIN:VEVENT
DTSTART;VALUE=DATE:20260108
DTEND;VALUE=DATE:20260110
DTSTAMP:20260425T213638
CREATED:20171001T090050Z
LAST-MODIFIED:20250910T120205Z
UID:768-1767834000-1767920399@www.ptszwettl.ac.at
SUMMARY:2. Mathematik Schularbeit
DESCRIPTION:
URL:https://www.ptszwettl.ac.at/wp/event/2-mathematik-schularbeit/
END:VEVENT
BEGIN:VEVENT
DTSTART;VALUE=DATE:20260122
DTEND;VALUE=DATE:20260124
DTSTAMP:20260425T213638
CREATED:20181107T073434Z
LAST-MODIFIED:20250910T114917Z
UID:1116-1769043600-1769129999@www.ptszwettl.ac.at
SUMMARY:Werkstättentag von 08:30 - 11:30
DESCRIPTION:Praxis an der PTS Zwettl – machen Sie sich ein Bild!
URL:https://www.ptszwettl.ac.at/wp/event/werkstaettentag-von-0830-1130/
END:VEVENT
END:VCALENDAR