BEGIN:VCALENDAR
VERSION:2.0
PRODID:-//PTS Zwettl - ECPv6.15.11//NONSGML v1.0//EN
CALSCALE:GREGORIAN
METHOD:PUBLISH
X-ORIGINAL-URL:https://www.ptszwettl.ac.at/wp
X-WR-CALDESC:Veranstaltungen für PTS Zwettl
REFRESH-INTERVAL;VALUE=DURATION:PT1H
X-Robots-Tag:noindex
X-PUBLISHED-TTL:PT1H
BEGIN:VTIMEZONE
TZID:Europe/Berlin
BEGIN:DAYLIGHT
TZOFFSETFROM:+0100
TZOFFSETTO:+0200
TZNAME:CEST
DTSTART:20250330T010000
END:DAYLIGHT
BEGIN:STANDARD
TZOFFSETFROM:+0200
TZOFFSETTO:+0100
TZNAME:CET
DTSTART:20251026T010000
END:STANDARD
BEGIN:DAYLIGHT
TZOFFSETFROM:+0100
TZOFFSETTO:+0200
TZNAME:CEST
DTSTART:20260329T010000
END:DAYLIGHT
BEGIN:STANDARD
TZOFFSETFROM:+0200
TZOFFSETTO:+0100
TZNAME:CET
DTSTART:20261025T010000
END:STANDARD
BEGIN:DAYLIGHT
TZOFFSETFROM:+0100
TZOFFSETTO:+0200
TZNAME:CEST
DTSTART:20270328T010000
END:DAYLIGHT
BEGIN:STANDARD
TZOFFSETFROM:+0200
TZOFFSETTO:+0100
TZNAME:CET
DTSTART:20271031T010000
END:STANDARD
END:VTIMEZONE
BEGIN:VEVENT
DTSTART;VALUE=DATE:20260604
DTEND;VALUE=DATE:20260606
DTSTAMP:20260425T175141
CREATED:20170902T150329Z
LAST-MODIFIED:20250910T120017Z
UID:681-1780534800-1780621199@www.ptszwettl.ac.at
SUMMARY:Fronleichnam
DESCRIPTION:
URL:https://www.ptszwettl.ac.at/wp/event/fronleichnam/
END:VEVENT
BEGIN:VEVENT
DTSTART;VALUE=DATE:20260605
DTEND;VALUE=DATE:20260607
DTSTAMP:20260425T175141
CREATED:20170902T143909Z
LAST-MODIFIED:20250910T120052Z
UID:652-1780621200-1780707599@www.ptszwettl.ac.at
SUMMARY:Schulautonom
DESCRIPTION:
URL:https://www.ptszwettl.ac.at/wp/event/schulautonom/
END:VEVENT
BEGIN:VEVENT
DTSTART;VALUE=DATE:20260616
DTEND;VALUE=DATE:20260618
DTSTAMP:20260425T175141
CREATED:20250910T115934Z
LAST-MODIFIED:20250910T115934Z
UID:3201-1781571600-1781657999@www.ptszwettl.ac.at
SUMMARY:Fachabschlussprüfung in der PTS
DESCRIPTION:
URL:https://www.ptszwettl.ac.at/wp/event/fachabschlusspruefung-in-der-pts/
END:VEVENT
END:VCALENDAR